BEGIN:VCALENDAR
VERSION:2.0
PRODID:-//Unité Pastorale Vallée du Geer - ECPv6.15.18//NONSGML v1.0//EN
CALSCALE:GREGORIAN
METHOD:PUBLISH
X-ORIGINAL-URL:https://www.upvalleedugeer.be
X-WR-CALDESC:Évènements pour Unité Pastorale Vallée du Geer
REFRESH-INTERVAL;VALUE=DURATION:PT1H
X-Robots-Tag:noindex
X-PUBLISHED-TTL:PT1H
BEGIN:VTIMEZONE
TZID:Europe/Paris
BEGIN:DAYLIGHT
TZOFFSETFROM:+0100
TZOFFSETTO:+0200
TZNAME:CEST
DTSTART:20230326T010000
END:DAYLIGHT
BEGIN:STANDARD
TZOFFSETFROM:+0200
TZOFFSETTO:+0100
TZNAME:CET
DTSTART:20231029T010000
END:STANDARD
BEGIN:DAYLIGHT
TZOFFSETFROM:+0100
TZOFFSETTO:+0200
TZNAME:CEST
DTSTART:20240331T010000
END:DAYLIGHT
BEGIN:STANDARD
TZOFFSETFROM:+0200
TZOFFSETTO:+0100
TZNAME:CET
DTSTART:20241027T010000
END:STANDARD
BEGIN:DAYLIGHT
TZOFFSETFROM:+0100
TZOFFSETTO:+0200
TZNAME:CEST
DTSTART:20250330T010000
END:DAYLIGHT
BEGIN:STANDARD
TZOFFSETFROM:+0200
TZOFFSETTO:+0100
TZNAME:CET
DTSTART:20251026T010000
END:STANDARD
END:VTIMEZONE
BEGIN:VEVENT
DTSTART;TZID=Europe/Paris:20241001T200000
DTEND;TZID=Europe/Paris:20241001T220000
DTSTAMP:20260424T112439
CREATED:20240927T064802Z
LAST-MODIFIED:20240927T071222Z
UID:10075-1727812800-1727820000@www.upvalleedugeer.be
SUMMARY:Réunion de préparation au baptême
DESCRIPTION:La célébration communautaire du Sacrement de Baptême a lieu le 3ème dimanche du mois\, dans l’une des 7 églises de notre Unité Pastorale\, habituellement à 15H.\nLes parents qui demandent le baptême pour leur enfant sont invités à prendre contact dès que possible et au plus tard avant le 15 du mois qui précède la date souhaitée avec Sandrine Machurot\, secrétaire paroissiale\, au 0496 215 882.\nAprès une première rencontre\, une réunion rassemblera les parents\, ainsi que les parrains et marraines qui le souhaitent\, le 1°mardi du mois .
URL:https://www.upvalleedugeer.be/event/reunion-de-preparation-au-bapteme/
END:VEVENT
BEGIN:VEVENT
DTSTART;TZID=Europe/Paris:20241003T200000
DTEND;TZID=Europe/Paris:20241003T220000
DTSTAMP:20260424T112439
CREATED:20240923T113514Z
LAST-MODIFIED:20240927T071102Z
UID:10034-1727985600-1727992800@www.upvalleedugeer.be
SUMMARY:Réunion du CUP (Conseil d'Unité Pastorale)
DESCRIPTION:Le Conseil d’Unité Pastorale (CUP) est le lieu de la collaboration entre l’Équipe Pastorale (EP) et l’Unité Pastorale (UP)\, par l’intermédiaire de ses représentants. \nIl est constitué de l’ensemble de l’Équipe Pastorale\, des Prêtres au service de l’Unité Pastorale et de deux représentants de chaque Équipe Relais (ER). \nLe CUP est chargé de la concertation entre toutes les communautés locales ainsi que du suivi de la vie pastorale dans l’Unité Pastorale (UP). \nIl porte une réflexion sur les objectifs à atteindre et sur les moyens à mettre en œuvre pour y arriver. \nIl constitue aussi le lieu de suivi et d’évaluation des décisions prises. \nIl est enfin le lieu de contact avec d’autres aspects de la vie de l’Église (les écoles\, les homes\, les hôpitaux…) \nIl veille à la vitalité le l’Unité Pastorale et à l’harmonieuse collaboration des Communautés. \nIl dresse le calendrier des célébrations et prend toutes les initiatives utiles pour stimuler la vie paroissiale\, en accord avec l’EP
URL:https://www.upvalleedugeer.be/event/reunion-du-cup-conseil-dunite-pastorale/
LOCATION:Salle Yalla\, Rue Nouwen\, Bassenge
END:VEVENT
BEGIN:VEVENT
DTSTART;TZID=Europe/Paris:20241009T191500
DTEND;TZID=Europe/Paris:20241009T213000
DTSTAMP:20260424T112439
CREATED:20240927T065713Z
LAST-MODIFIED:20240927T065713Z
UID:10079-1728501300-1728509400@www.upvalleedugeer.be
SUMMARY:Réunion de l'équipe pastorale
DESCRIPTION:L’Équipe Pastorale a reçu la mission d’animer l’Unité Pastorale\, c’est-à-dire qu’elle soutient les Équipes-Relais et les Équipes à tâches des communautés de l’Unité Pastorale.\nElle est composée du Curé et de laïcs qui ont une bonne connaissance des communautés locales et de leur organisation.\nSous la responsabilité du Curé\, elle exerce un rôle de direction\, dans le sens où c’est elle qui donne une direction aux projets menés en Unité Pastorale.\nC’est aussi un organe de gestion et de coordination.\nElle tente donc de prendre le pouls de ce qui se vit dans les différentes communautés et de promouvoir les actions adéquates afin que l’Unité Pastorale se construise jour après jour et soit vraiment signe de la présence du Royaume de Dieu.
URL:https://www.upvalleedugeer.be/event/reunion-de-lequipe-pastorale/
END:VEVENT
BEGIN:VEVENT
DTSTART;TZID=Europe/Paris:20241012T190000
DTEND;TZID=Europe/Paris:20241012T203000
DTSTAMP:20260424T112439
CREATED:20241002T192632Z
LAST-MODIFIED:20241002T192714Z
UID:10129-1728759600-1728765000@www.upvalleedugeer.be
SUMMARY:Concert d'orgue
DESCRIPTION:Par Arthur Dony\, organiste titulaire
URL:https://www.upvalleedugeer.be/event/concert-dorgue/
LOCATION:Église Saint-Victor Glons
END:VEVENT
BEGIN:VEVENT
DTSTART;TZID=Europe/Paris:20241020T150000
DTEND;TZID=Europe/Paris:20241020T160000
DTSTAMP:20260424T112439
CREATED:20240927T065102Z
LAST-MODIFIED:20240927T071248Z
UID:10077-1729436400-1729440000@www.upvalleedugeer.be
SUMMARY:Célébration de baptêmes d'enfants
DESCRIPTION:La célébration communautaire du Sacrement de Baptême a lieu le 3ème dimanche du mois\, dans l’une des 7 églises de notre Unité Pastorale\, habituellement à 15H.\nLes parents qui demandent le baptême pour leur enfant sont invités à prendre contact dès que possible et au plus tard avant le 15 du mois qui précède la date souhaitée avec Sandrine Machurot\, secrétaire paroissiale\, au 0496 215 882.\nAprès une première rencontre\, une réunion rassemblera les parents\, ainsi que les parrains et marraines qui le souhaitent\, le 1°mardi du mois .
URL:https://www.upvalleedugeer.be/event/celebration-de-baptemes-denfants/
LOCATION:Église Saint-Victor Glons
END:VEVENT
BEGIN:VEVENT
DTSTART;TZID=Europe/Paris:20241023T191500
DTEND;TZID=Europe/Paris:20241023T213000
DTSTAMP:20260424T112439
CREATED:20240927T070107Z
LAST-MODIFIED:20240927T070107Z
UID:10083-1729710900-1729719000@www.upvalleedugeer.be
SUMMARY:Réunion de l'équipe pastorale
DESCRIPTION:L’Équipe Pastorale a reçu la mission d’animer l’Unité Pastorale\, c’est-à-dire qu’elle soutient les Équipes-Relais et les Équipes à tâches des communautés de l’Unité Pastorale.\nElle est composée du Curé\, (d’une assistante paroissiale) et de laïcs qui ont une bonne connaissance des communautés locales et de leur organisation.\nSous la responsabilité du Curé\, elle exerce un rôle de direction\, dans le sens où c’est elle qui donne une direction aux projets menés en Unité Pastorale.\nC’est aussi un organe de gestion et de coordination.\nElle tente donc de prendre le pouls de ce qui se vit dans les différentes communautés et de promouvoir les actions adéquates afin que l’Unité Pastorale se construise jour après jour et soit vraiment signe de la présence du Royaume de Dieu.
URL:https://www.upvalleedugeer.be/event/reunion-de-lequipe-pastorale-2/
END:VEVENT
BEGIN:VEVENT
DTSTART;VALUE=DATE:20241026
DTEND;VALUE=DATE:20241027
DTSTAMP:20260424T112439
CREATED:20240927T070701Z
LAST-MODIFIED:20240927T070701Z
UID:10085-1729900800-1729987199@www.upvalleedugeer.be
SUMMARY:Journée des acolytes
DESCRIPTION:Ateliers – découvertes – Eucharistie
URL:https://www.upvalleedugeer.be/event/journee-des-acolytes/
LOCATION:Sanctuaire de Banneux Notre-Dame
END:VEVENT
END:VCALENDAR