BEGIN:VCALENDAR
VERSION:2.0
PRODID:-//Unité Pastorale Vallée du Geer - ECPv6.15.18//NONSGML v1.0//EN
CALSCALE:GREGORIAN
METHOD:PUBLISH
X-WR-CALNAME:Unité Pastorale Vallée du Geer
X-ORIGINAL-URL:https://www.upvalleedugeer.be
X-WR-CALDESC:Évènements pour Unité Pastorale Vallée du Geer
REFRESH-INTERVAL;VALUE=DURATION:PT1H
X-Robots-Tag:noindex
X-PUBLISHED-TTL:PT1H
BEGIN:VTIMEZONE
TZID:Europe/Paris
BEGIN:DAYLIGHT
TZOFFSETFROM:+0100
TZOFFSETTO:+0200
TZNAME:CEST
DTSTART:20230326T010000
END:DAYLIGHT
BEGIN:STANDARD
TZOFFSETFROM:+0200
TZOFFSETTO:+0100
TZNAME:CET
DTSTART:20231029T010000
END:STANDARD
BEGIN:DAYLIGHT
TZOFFSETFROM:+0100
TZOFFSETTO:+0200
TZNAME:CEST
DTSTART:20240331T010000
END:DAYLIGHT
BEGIN:STANDARD
TZOFFSETFROM:+0200
TZOFFSETTO:+0100
TZNAME:CET
DTSTART:20241027T010000
END:STANDARD
BEGIN:DAYLIGHT
TZOFFSETFROM:+0100
TZOFFSETTO:+0200
TZNAME:CEST
DTSTART:20250330T010000
END:DAYLIGHT
BEGIN:STANDARD
TZOFFSETFROM:+0200
TZOFFSETTO:+0100
TZNAME:CET
DTSTART:20251026T010000
END:STANDARD
BEGIN:DAYLIGHT
TZOFFSETFROM:+0100
TZOFFSETTO:+0200
TZNAME:CEST
DTSTART:20260329T010000
END:DAYLIGHT
BEGIN:STANDARD
TZOFFSETFROM:+0200
TZOFFSETTO:+0100
TZNAME:CET
DTSTART:20261025T010000
END:STANDARD
BEGIN:DAYLIGHT
TZOFFSETFROM:+0100
TZOFFSETTO:+0200
TZNAME:CEST
DTSTART:20270328T010000
END:DAYLIGHT
BEGIN:STANDARD
TZOFFSETFROM:+0200
TZOFFSETTO:+0100
TZNAME:CET
DTSTART:20271031T010000
END:STANDARD
END:VTIMEZONE
BEGIN:VEVENT
DTSTART;TZID=Europe/Paris:20260326T180000
DTEND;TZID=Europe/Paris:20260326T190000
DTSTAMP:20260421T101356
CREATED:20260320T094826Z
LAST-MODIFIED:20260320T094826Z
UID:11119-1774548000-1774551600@www.upvalleedugeer.be
SUMMARY:Célébration communautaire de la Réconciliation
DESCRIPTION:Le sacrement de réconciliation est le signe de l’amour infini de Dieu pour nous.\nLe Christ est venu parmi nous\, il est mort sur la croix pour nous pardonner nos péchés.\nPar le sacrement de réconciliation tout baptisé retrouve l’amour de Dieu.\nParce qu’il se sait aimé de Dieu\, l’homme reconnaît comme « péché » toutes ruptures dans sa vie de cette relation d’amour avec Dieu et avec les autres.\nRéconcilié et pardonné\, il peut se remettre debout et continuer.
URL:https://www.upvalleedugeer.be/event/celebration-communautaire-de-la-reconciliation-4/
LOCATION:Église Saint-Georges à Eben
END:VEVENT
BEGIN:VEVENT
DTSTART;TZID=Europe/Paris:20260308T094500
DTEND;TZID=Europe/Paris:20260308T121500
DTSTAMP:20260421T101356
CREATED:20260212T181701Z
LAST-MODIFIED:20260212T182923Z
UID:11062-1772963100-1772972100@www.upvalleedugeer.be
SUMMARY:Matinée communautaire du 3ème dimanche de Carême
DESCRIPTION:Rendez-vous le 8 mars à 9h45 en l’église de Boirs. \nAu programme: \n\nAccueil de 9h45 à 10h.\nLa messe se déroulera en deux temps.\n10h début de la célébration :\n\nchant d’entrée\nmot d’accueil\nlecture de l’Évangile qui sera celui de Jésus et la Samaritaine\, fil conducteur de cette matinée.\n\n\n10h20 animation par groupes d’âge\, les adultes à l’intérieur\, les enfants à l’extérieur.\n\nLes enfants se préparant à leur 1C seront accompagnés de leurs parents.\nUn plan B pour les enfants est prévu en cas de trop mauvais temps.\n\n\n11h15 poursuite de la célébration.\n\n 
URL:https://www.upvalleedugeer.be/event/matinee-communautaire-du-3eme-dimanche-de-careme/
LOCATION:Église Saint-Lambert à Boirs\, Rue de l'Église 4\, Boirs\, 4690\, Belgique
END:VEVENT
BEGIN:VEVENT
DTSTART;TZID=Europe/Paris:20260218T180000
DTEND;TZID=Europe/Paris:20260218T190000
DTSTAMP:20260421T101356
CREATED:20260107T092708Z
LAST-MODIFIED:20260107T092708Z
UID:11024-1771437600-1771441200@www.upvalleedugeer.be
SUMMARY:Mercredi des Cendres\, messe d'entrée en Carême
DESCRIPTION:
URL:https://www.upvalleedugeer.be/event/mercredi-des-cendres-messe-dentree-en-careme/
LOCATION:église Saint-Lambert à Wonck
END:VEVENT
BEGIN:VEVENT
DTSTART;TZID=Europe/Paris:20260119T200000
DTEND;TZID=Europe/Paris:20260119T220000
DTSTAMP:20260421T101356
CREATED:20260107T092918Z
LAST-MODIFIED:20260119T105536Z
UID:11026-1768852800-1768860000@www.upvalleedugeer.be
SUMMARY:Réunion du CUP
DESCRIPTION:Le Conseil d’unité pastorale (« CUP ») est un organe de concertation de l’action pastorale de\nl’Unité. C’est un lieu de parole et d’écoute qui « tient conseil » sur la vie et la mission des\ncommunautés dans leur environnement propre\, à l’écoute de l’Esprit du Christ\, des questions\net des interpellations de nos contemporains
URL:https://www.upvalleedugeer.be/event/reunion-du-cup-2/
LOCATION:Salle Yalla\, Rue Nouwen\, Bassenge
END:VEVENT
BEGIN:VEVENT
DTSTART;TZID=Europe/Paris:20251221T170000
DTEND;TZID=Europe/Paris:20251221T190000
DTSTAMP:20260421T101356
CREATED:20251122T112639Z
LAST-MODIFIED:20251122T112639Z
UID:10985-1766336400-1766343600@www.upvalleedugeer.be
SUMMARY:Noël EnChanté Concert piano - chant Glons
DESCRIPTION:De Bach à Mariah Carey \nKristine Paseka\, soprano – Dean Parker\, ténor – Renaud Flagothier\, basse – Martin Gennen\, piano \n12€ en prévente\, 15€ sur place\, gratuit pour les – de 12 ans \nInfos et réservations : 0472 61 73 66 – archipel.lyrique@gmail.com
URL:https://www.upvalleedugeer.be/event/noel-enchante-concert-piano-chant-glons/
LOCATION:Église Saint-Victor Glons
END:VEVENT
BEGIN:VEVENT
DTSTART;TZID=Europe/Paris:20251214T150000
DTEND;TZID=Europe/Paris:20251214T180000
DTSTAMP:20260421T101356
CREATED:20251113T180948Z
LAST-MODIFIED:20251113T183622Z
UID:10955-1765724400-1765735200@www.upvalleedugeer.be
SUMMARY:Concert de Noël Emael
DESCRIPTION:Les paroissiens de l’église Notre-Dame d’Emael\, fondée par Saint Hubert\, ont décidé de s’associer à la commémoration du 13OOème anniversaire de sa mort en organisant une journée exceptionnelle et festive\, le dimanche 14 décembre 2025. \n11h. :    Messe Solennelle et chantée du 3ème dimanche de l’Avent sur le thème de la joie\navec la participation de la Chapelle Musicale de Saint-Hubert.\nRemise d’une fanfare à l’église Notre-Dame d’Emael \n12h30 : Balade du Sonneur à la Fontaine Saint Hubert (Biotope de La Guizette)\nrappel historique et interprétation de la Fanfare Notre-Dame d’Emael \n15h. :    Concert de Noël par la Chapelle Musicale de Saint-Hubert sur le thème : « l’appel de Noël » \n \nDétails pratiques : \nRenseignements au 00 32 (0)4.286.20.02 \n19 € en prévente        24 € le jour même        Enfants et étudiants : 12 € en prévente comme le jour même. \nRéservations souhaitées et paiement sur le compte BE04 0001 0351 1831 de Jean-Claude Simon.\nLe ticket d’entrée donne droit à une coupe de bulles ou un soft à la pause.\nAprès le concert\, les participants pourront profiter d’une rencontre avec les musiciens. \nL’intégralité des bénéfices sera utilisée pour les formations musicales de la Chapelle Musicale \nC’est une organisation conjointe de\nla Chapelle Musicale Saint Hubert d’Ardenne\,\net la Fabrique d’Eglise Notre-Dame d’Emael\,\navec le soutien de la Commune de Bassenge. \n  \n 
URL:https://www.upvalleedugeer.be/event/concert-de-noel-emael/
LOCATION:Église Notre-Dame d’Emael
END:VEVENT
BEGIN:VEVENT
DTSTART;TZID=Europe/Paris:20251214T110000
DTEND;TZID=Europe/Paris:20251214T120000
DTSTAMP:20260421T101356
CREATED:20251113T181328Z
LAST-MODIFIED:20251113T181457Z
UID:10957-1765710000-1765713600@www.upvalleedugeer.be
SUMMARY:Messe solennelle et chantée Emael
DESCRIPTION:Les paroissiens de l’église Notre-Dame d’Emael\, fondée par Saint Hubert\, ont décidé de s’associer à la commémoration du 13OOème anniversaire de sa mort en organisant une journée exceptionnelle et festive\, le dimanche 14 décembre 2025. \n11h. :    Messe Solennelle et chantée du 3ème dimanche de l’Avent sur le thème de la joie\navec la participation de la Chapelle Musicale de Saint-Hubert.\nRemise d’une fanfare à l’église Notre-Dame d’Emael
URL:https://www.upvalleedugeer.be/event/messe-solennelle-et-chantee-emael/
LOCATION:Église Notre-Dame d’Emael
END:VEVENT
BEGIN:VEVENT
DTSTART;TZID=Europe/Paris:20251210T180000
DTEND;TZID=Europe/Paris:20251210T190000
DTSTAMP:20260421T101356
CREATED:20251208T101423Z
LAST-MODIFIED:20251208T101423Z
UID:10998-1765389600-1765393200@www.upvalleedugeer.be
SUMMARY:Célébration communautaire de la Réconciliation
DESCRIPTION:À l’occasion de cette célébration\, nous invitons tous les fidèles qui le souhaitent à venir faire leur préparation spirituelle à la fête de Noël.\nLe sacrement de Réconciliation sera administré par les prêtres qui y seront présents. \nAutant nous nous préparons matériellement à bien passer les fêtes de fin d’année\, autant le Seigneur attend que nous nous disposions à porter des fruits spirituels pour bien terminer l’année et bien commencer la nouvelle.
URL:https://www.upvalleedugeer.be/event/celebration-communautaire-de-la-reconciliation-3/
LOCATION:église Saint-Lambert à Wonck
END:VEVENT
BEGIN:VEVENT
DTSTART;TZID=Europe/Paris:20251130T100000
DTEND;TZID=Europe/Paris:20251130T120000
DTSTAMP:20260421T101356
CREATED:20250929T162303Z
LAST-MODIFIED:20251025T113512Z
UID:10768-1764496800-1764504000@www.upvalleedugeer.be
SUMMARY:Messe communautaire d'entrée en Avent
DESCRIPTION:Notre prochaine matinée communautaire aura lieu le dimanche 30 novembre à 10h à l’église Saint-Lambert de Boirs. \nBienvenue à tous ! \n 
URL:https://www.upvalleedugeer.be/event/matinee-communautaire-dentree-en-avent/
LOCATION:Église Saint-Lambert à Boirs\, Rue de l'Église 4\, Boirs\, 4690\, Belgique
END:VEVENT
BEGIN:VEVENT
DTSTART;TZID=Europe/Paris:20251107T193000
DTEND;TZID=Europe/Paris:20251107T203000
DTSTAMP:20260421T101356
CREATED:20251107T151245Z
LAST-MODIFIED:20251107T151245Z
UID:10865-1762543800-1762547400@www.upvalleedugeer.be
SUMMARY:Rencontre  d’information parents - jeunes pour la confirmation
DESCRIPTION:
URL:https://www.upvalleedugeer.be/event/rencontre-dinformation-parents-jeunes-pour-la-confirmation/
LOCATION:Église Saint-Remy de Roclenge
END:VEVENT
BEGIN:VEVENT
DTSTART;TZID=Europe/Paris:20250928T150000
DTEND;TZID=Europe/Paris:20250928T170000
DTSTAMP:20260421T101356
CREATED:20250821T142422Z
LAST-MODIFIED:20250821T142422Z
UID:10680-1759071600-1759078800@www.upvalleedugeer.be
SUMMARY:Messe de la rentrée et d'installation de notre nouveau curé
DESCRIPTION:Messe de la Rentrée et d’installation de notre nouveau curé\, l’abbé Irie Yves Tchoumoudi. \nInvitation cordiale à tous !
URL:https://www.upvalleedugeer.be/event/messe-de-la-rentree-et-dinstallation-de-notre-nouveau-cure/
LOCATION:Église Saint-Victor Glons
END:VEVENT
BEGIN:VEVENT
DTSTART;TZID=Europe/Paris:20250914T100000
DTEND;TZID=Europe/Paris:20250914T113000
DTSTAMP:20260421T101356
CREATED:20250802T150445Z
LAST-MODIFIED:20250802T150657Z
UID:10665-1757844000-1757849400@www.upvalleedugeer.be
SUMMARY:Messe en Wallon
DESCRIPTION:Messe en Wallon à l’occasion de la fête à Bassenge – à 10h au Petit Lourdes
URL:https://www.upvalleedugeer.be/event/messe-en-wallon-a-loccasion-de-la-fete-a-bassenge/
LOCATION:Petit Lourdes
END:VEVENT
BEGIN:VEVENT
DTSTART;TZID=Europe/Paris:20250831T093000
DTEND;TZID=Europe/Paris:20250831T170000
DTSTAMP:20260421T101356
CREATED:20250802T133215Z
LAST-MODIFIED:20250802T150844Z
UID:10655-1756632600-1756659600@www.upvalleedugeer.be
SUMMARY:Pèlerins d'Espérance - Doyenné de la Basse-Meuse
DESCRIPTION:
URL:https://www.upvalleedugeer.be/event/pelerins-desperance-en-route-avec-le-doyenne-de-la-basse-meuse/
LOCATION:Petit Lourdes
END:VEVENT
BEGIN:VEVENT
DTSTART;TZID=Europe/Paris:20250810T160000
DTEND;TZID=Europe/Paris:20250810T180000
DTSTAMP:20260421T101356
CREATED:20250802T140432Z
LAST-MODIFIED:20250802T150735Z
UID:10661-1754841600-1754848800@www.upvalleedugeer.be
SUMMARY:Fête de l'Orgue
DESCRIPTION:
URL:https://www.upvalleedugeer.be/event/fete-de-lorgue-quatre-organistes-a-glons/
LOCATION:Église Saint-Victor Glons
END:VEVENT
BEGIN:VEVENT
DTSTART;TZID=Europe/Paris:20250629T090000
DTEND;TZID=Europe/Paris:20250629T160000
DTSTAMP:20260421T101356
CREATED:20250419T133305Z
LAST-MODIFIED:20250626T142237Z
UID:10527-1751187600-1751212800@www.upvalleedugeer.be
SUMMARY:Pèlerinage paroissial du Jubilé de l'Espérance à Banneux
DESCRIPTION:– 9h : Rassemblement au parking du Petit Lourdes.\n– 9h15 : Départ vers Banneux\n– Arrivée à Banneux vers 10h\n– 10h15: rassemblement à l’entrée du sanctuaire\n– 10h15: chemin de prières et visite de la source\n– 11h15: messe à la chapelle du Message\n– Temps de midi : Pique-nique (à emporter) et temps libre\n– 14h: Vidéo des apparitions\n– 15h: Retour à Bassenge
URL:https://www.upvalleedugeer.be/event/pelerinage-paroissial-du-jubile-de-lesperance-a-banneux/
LOCATION:Sanctuaire de Banneux Notre-Dame
END:VEVENT
BEGIN:VEVENT
DTSTART;TZID=Europe/Paris:20250531T090000
DTEND;TZID=Europe/Paris:20250601T180000
DTSTAMP:20260421T101356
CREATED:20250529T184844Z
LAST-MODIFIED:20250529T185008Z
UID:10602-1748682000-1748800800@www.upvalleedugeer.be
SUMMARY:Weekend églises ouvertes à Emael
DESCRIPTION:Horaire :\n\nDurant le week-end : de 9 à 12h. et de 14 à18h\nLe dimanche 1er juin : messe solennelle à 11h suivie du verre de l’amitié et de l’inauguration de l’exposition : « Lumière sur le vitrail »\nLe lundi 2 juin à 19h : conférence « Lumière sur le vitrail »\npar Vinciane Groessens (CIPAR) et José Vétro (Service patrimoine du Diocèse de Liège)\nDurant la semaine 23 : de 14 à 17h et sur rendez-vous (O4/286.20.02) : accès à l’exposition.
URL:https://www.upvalleedugeer.be/event/weekend-eglises-ouvertes-a-emael/
LOCATION:Église Notre-Dame d’Emael
END:VEVENT
BEGIN:VEVENT
DTSTART;TZID=Europe/Paris:20250525T123000
DTEND;TZID=Europe/Paris:20250525T130000
DTSTAMP:20260421T101356
CREATED:20250419T132632Z
LAST-MODIFIED:20250419T132632Z
UID:10523-1748176200-1748178000@www.upvalleedugeer.be
SUMMARY:Bénédiction des véhicules
DESCRIPTION:
URL:https://www.upvalleedugeer.be/event/benediction-des-vehicules/
LOCATION:Église Saint-Victor Glons
END:VEVENT
BEGIN:VEVENT
DTSTART;TZID=Europe/Paris:20250420T150000
DTEND;TZID=Europe/Paris:20250420T160000
DTSTAMP:20260421T101356
CREATED:20250419T131420Z
LAST-MODIFIED:20250419T131420Z
UID:10521-1745161200-1745164800@www.upvalleedugeer.be
SUMMARY:Célébration de baptêmes
DESCRIPTION:
URL:https://www.upvalleedugeer.be/event/celebration-de-baptemes/
LOCATION:Église Notre-Dame d’Emael
CATEGORIES:Célébrations
END:VEVENT
BEGIN:VEVENT
DTSTART;TZID=Europe/Paris:20250410T180000
DTEND;TZID=Europe/Paris:20250410T210000
DTSTAMP:20260421T101356
CREATED:20250407T115735Z
LAST-MODIFIED:20250407T120445Z
UID:10503-1744308000-1744318800@www.upvalleedugeer.be
SUMMARY:Célébration communautaire de la Réconciliation suivie d'un temps spirituel
DESCRIPTION:La célébration sera suivie d’un témoignage d’un membre d’Entraide et Fraternité sur la campagne de Carême\,\nqui cette année nous parle du Pérou.\nPour plus d’infos sur la Campagne de Carême:\nCarême de Partage 2025\n\n \n\nNous partagerons ensuite un repas frugal (tartines de fromage) tout en continuant nos échanges.\nUn panier récoltera votre participation pour la collecte du Carême de partage.\nBienvenue à tous et déjà un grand Merci pour votre participation.
URL:https://www.upvalleedugeer.be/event/celebration-communautaire-de-la-reconciliation-suivie-dun-temps-spirituel/
LOCATION:Église Saint-Georges à Eben
END:VEVENT
BEGIN:VEVENT
DTSTART;TZID=Europe/Paris:20250323T093000
DTEND;TZID=Europe/Paris:20250323T120000
DTSTAMP:20260421T101356
CREATED:20250228T145356Z
LAST-MODIFIED:20250228T145356Z
UID:10450-1742722200-1742731200@www.upvalleedugeer.be
SUMMARY:Matinée Communautaire le 23 mars à Glons
DESCRIPTION:
URL:https://www.upvalleedugeer.be/event/matinee-communautaire-le-23-mars-a-glons/
LOCATION:Église Saint-Victor Glons
END:VEVENT
BEGIN:VEVENT
DTSTART;TZID=Europe/Paris:20250218T200000
DTEND;TZID=Europe/Paris:20250218T213000
DTSTAMP:20260421T101356
CREATED:20250210T162756Z
LAST-MODIFIED:20250210T163006Z
UID:10424-1739908800-1739914200@www.upvalleedugeer.be
SUMMARY:Réunion préparatoire à la matinée communautaire du 23 mars
DESCRIPTION:ATTENTION : modification date et heure par rapport à ce qui était prévu ! \n 
URL:https://www.upvalleedugeer.be/event/reunion-preparatoire-a-la-matinee-communautaire-du-23-mars/
LOCATION:Roclenge
END:VEVENT
BEGIN:VEVENT
DTSTART;TZID=Europe/Paris:20250213T200000
DTEND;TZID=Europe/Paris:20250213T220000
DTSTAMP:20260421T101356
CREATED:20250209T133534Z
LAST-MODIFIED:20250209T133534Z
UID:10422-1739476800-1739484000@www.upvalleedugeer.be
SUMMARY:Réunion du CUP (Conseil d'Unité Pastorale)
DESCRIPTION:
URL:https://www.upvalleedugeer.be/event/reunion-du-cup-conseil-dunite-pastorale-2/
LOCATION:Salle Yalla\, Rue Nouwen\, Bassenge
END:VEVENT
BEGIN:VEVENT
DTSTART;TZID=Europe/Paris:20241218T180000
DTEND;TZID=Europe/Paris:20241218T190000
DTSTAMP:20260421T101356
CREATED:20241218T133228Z
LAST-MODIFIED:20241218T133228Z
UID:10393-1734544800-1734548400@www.upvalleedugeer.be
SUMMARY:Célébration de la Réconciliation
DESCRIPTION:À l’occasion de cette célébration\, nous invitons tous les fidèles qui le souhaitent à venir faire leur préparation spirituelle à la fête de Noël. \nLe sacrement de réconciliation sera administré par les prêtres qui y seront présents. \nAutant nous nous préparons matériellement à bien passer les fêtes de fin d’année\, autant le Seigneur attend que nous nous disposions à porter des fruits spirituels pour bien terminer l’année et bien commencer la nouvelle.
URL:https://www.upvalleedugeer.be/event/celebration-de-la-reconciliation-2/
LOCATION:église Saint-Lambert à Wonck
END:VEVENT
BEGIN:VEVENT
DTSTART;TZID=Europe/Paris:20241215T150000
DTEND;TZID=Europe/Paris:20241215T170000
DTSTAMP:20260421T101356
CREATED:20241102T184537Z
LAST-MODIFIED:20241102T184537Z
UID:10266-1734274800-1734282000@www.upvalleedugeer.be
SUMMARY:Concert exceptionnel de Noël
DESCRIPTION:
URL:https://www.upvalleedugeer.be/event/concert-exceptionnel-de-noel/
LOCATION:Église Notre-Dame d’Emael
END:VEVENT
BEGIN:VEVENT
DTSTART;TZID=Europe/Paris:20241215T093000
DTEND;TZID=Europe/Paris:20241215T120000
DTSTAMP:20260421T101356
CREATED:20241016T093344Z
LAST-MODIFIED:20241016T093344Z
UID:10159-1734255000-1734264000@www.upvalleedugeer.be
SUMMARY:Matinée communautaire paroissiale
DESCRIPTION:Convivialité\, partage\, écoute et célébration de l’Eucharistie.
URL:https://www.upvalleedugeer.be/event/matinee-communautaire-paroissiale/
LOCATION:Église Notre-Dame d’Emael
END:VEVENT
BEGIN:VEVENT
DTSTART;TZID=Europe/Paris:20241124T150000
DTEND;TZID=Europe/Paris:20241124T180000
DTSTAMP:20260421T101356
CREATED:20241102T181838Z
LAST-MODIFIED:20241123T191751Z
UID:10262-1732460400-1732471200@www.upvalleedugeer.be
SUMMARY:Concert au profit de Viva for life
DESCRIPTION:
URL:https://www.upvalleedugeer.be/event/concert-au-profit-de-viva-for-life/
LOCATION:Église Saint-Victor Glons
END:VEVENT
BEGIN:VEVENT
DTSTART;TZID=Europe/Paris:20241118T193000
DTEND;TZID=Europe/Paris:20241118T210000
DTSTAMP:20260421T101356
CREATED:20241016T093630Z
LAST-MODIFIED:20241016T095814Z
UID:10161-1731958200-1731963600@www.upvalleedugeer.be
SUMMARY:Réunion de préparation à la matinée communautaire du 15 décembre
DESCRIPTION:Appel à toutes les bonnes volontés !
URL:https://www.upvalleedugeer.be/event/reunion-de-preparation-a-la-matinee-communautaire-du-15-decembre/
LOCATION:Local rue du commerce 19A à Roclenge (derrière l’église)
END:VEVENT
BEGIN:VEVENT
DTSTART;TZID=Europe/Paris:20241115T200000
DTEND;TZID=Europe/Paris:20241115T220000
DTSTAMP:20260421T101356
CREATED:20241102T185401Z
LAST-MODIFIED:20241102T185401Z
UID:10273-1731700800-1731708000@www.upvalleedugeer.be
SUMMARY:Rencontre parents et enfants pour la confirmation
DESCRIPTION:
URL:https://www.upvalleedugeer.be/event/rencontre-parents-et-enfants-pour-la-confirmation/
LOCATION:Salle Yalla\, Rue Nouwen\, Bassenge
END:VEVENT
BEGIN:VEVENT
DTSTART;TZID=Europe/Paris:20241106T080000
DTEND;TZID=Europe/Paris:20241106T170000
DTSTAMP:20260421T101356
CREATED:20241102T190423Z
LAST-MODIFIED:20241102T190423Z
UID:10280-1730880000-1730912400@www.upvalleedugeer.be
SUMMARY:Réunion de l'équipe pastorale
DESCRIPTION:
URL:https://www.upvalleedugeer.be/event/reunion-de-lequipe-pastorale-4/
LOCATION:Bassenge
END:VEVENT
BEGIN:VEVENT
DTSTART;TZID=Europe/Paris:20241105T200000
DTEND;TZID=Europe/Paris:20241105T213000
DTSTAMP:20260421T101356
CREATED:20241102T185537Z
LAST-MODIFIED:20241102T185537Z
UID:10275-1730836800-1730842200@www.upvalleedugeer.be
SUMMARY:Réunion de préparation aux baptêmes
DESCRIPTION:
URL:https://www.upvalleedugeer.be/event/reunion-de-preparation-aux-baptemes/
END:VEVENT
END:VCALENDAR