BEGIN:VCALENDAR
VERSION:2.0
PRODID:-//Unité Pastorale Vallée du Geer - ECPv6.15.18//NONSGML v1.0//EN
CALSCALE:GREGORIAN
METHOD:PUBLISH
X-WR-CALNAME:Unité Pastorale Vallée du Geer
X-ORIGINAL-URL:https://www.upvalleedugeer.be
X-WR-CALDESC:Évènements pour Unité Pastorale Vallée du Geer
REFRESH-INTERVAL;VALUE=DURATION:PT1H
X-Robots-Tag:noindex
X-PUBLISHED-TTL:PT1H
BEGIN:VTIMEZONE
TZID:Europe/Paris
BEGIN:DAYLIGHT
TZOFFSETFROM:+0100
TZOFFSETTO:+0200
TZNAME:CEST
DTSTART:20230326T010000
END:DAYLIGHT
BEGIN:STANDARD
TZOFFSETFROM:+0200
TZOFFSETTO:+0100
TZNAME:CET
DTSTART:20231029T010000
END:STANDARD
BEGIN:DAYLIGHT
TZOFFSETFROM:+0100
TZOFFSETTO:+0200
TZNAME:CEST
DTSTART:20240331T010000
END:DAYLIGHT
BEGIN:STANDARD
TZOFFSETFROM:+0200
TZOFFSETTO:+0100
TZNAME:CET
DTSTART:20241027T010000
END:STANDARD
BEGIN:DAYLIGHT
TZOFFSETFROM:+0100
TZOFFSETTO:+0200
TZNAME:CEST
DTSTART:20250330T010000
END:DAYLIGHT
BEGIN:STANDARD
TZOFFSETFROM:+0200
TZOFFSETTO:+0100
TZNAME:CET
DTSTART:20251026T010000
END:STANDARD
END:VTIMEZONE
BEGIN:VEVENT
DTSTART;TZID=Europe/Paris:20241023T191500
DTEND;TZID=Europe/Paris:20241023T213000
DTSTAMP:20260424T130856
CREATED:20240927T070107Z
LAST-MODIFIED:20240927T070107Z
UID:10083-1729710900-1729719000@www.upvalleedugeer.be
SUMMARY:Réunion de l'équipe pastorale
DESCRIPTION:L’Équipe Pastorale a reçu la mission d’animer l’Unité Pastorale\, c’est-à-dire qu’elle soutient les Équipes-Relais et les Équipes à tâches des communautés de l’Unité Pastorale.\nElle est composée du Curé\, (d’une assistante paroissiale) et de laïcs qui ont une bonne connaissance des communautés locales et de leur organisation.\nSous la responsabilité du Curé\, elle exerce un rôle de direction\, dans le sens où c’est elle qui donne une direction aux projets menés en Unité Pastorale.\nC’est aussi un organe de gestion et de coordination.\nElle tente donc de prendre le pouls de ce qui se vit dans les différentes communautés et de promouvoir les actions adéquates afin que l’Unité Pastorale se construise jour après jour et soit vraiment signe de la présence du Royaume de Dieu.
URL:https://www.upvalleedugeer.be/event/reunion-de-lequipe-pastorale-2/
END:VEVENT
END:VCALENDAR