BEGIN:VCALENDAR
VERSION:2.0
PRODID:-//Unité Pastorale Vallée du Geer - ECPv6.15.20//NONSGML v1.0//EN
CALSCALE:GREGORIAN
METHOD:PUBLISH
X-WR-CALNAME:Unité Pastorale Vallée du Geer
X-ORIGINAL-URL:https://www.upvalleedugeer.be
X-WR-CALDESC:Évènements pour Unité Pastorale Vallée du Geer
REFRESH-INTERVAL;VALUE=DURATION:PT1H
X-Robots-Tag:noindex
X-PUBLISHED-TTL:PT1H
BEGIN:VTIMEZONE
TZID:Europe/Paris
BEGIN:DAYLIGHT
TZOFFSETFROM:+0100
TZOFFSETTO:+0200
TZNAME:CEST
DTSTART:20220327T010000
END:DAYLIGHT
BEGIN:STANDARD
TZOFFSETFROM:+0200
TZOFFSETTO:+0100
TZNAME:CET
DTSTART:20221030T010000
END:STANDARD
BEGIN:DAYLIGHT
TZOFFSETFROM:+0100
TZOFFSETTO:+0200
TZNAME:CEST
DTSTART:20230326T010000
END:DAYLIGHT
BEGIN:STANDARD
TZOFFSETFROM:+0200
TZOFFSETTO:+0100
TZNAME:CET
DTSTART:20231029T010000
END:STANDARD
BEGIN:DAYLIGHT
TZOFFSETFROM:+0100
TZOFFSETTO:+0200
TZNAME:CEST
DTSTART:20240331T010000
END:DAYLIGHT
BEGIN:STANDARD
TZOFFSETFROM:+0200
TZOFFSETTO:+0100
TZNAME:CET
DTSTART:20241027T010000
END:STANDARD
END:VTIMEZONE
BEGIN:VEVENT
DTSTART;TZID=Europe/Paris:20230603T090000
DTEND;TZID=Europe/Paris:20230604T170000
DTSTAMP:20260425T124203
CREATED:20230512T164347Z
LAST-MODIFIED:20230512T164347Z
UID:9173-1685782800-1685898000@www.upvalleedugeer.be
SUMMARY:Weekend église ouverte à Emael
DESCRIPTION:
URL:https://www.upvalleedugeer.be/event/weekend-eglise-ouverte-a-emael/
LOCATION:Église Notre-Dame d’Emael
END:VEVENT
END:VCALENDAR