BEGIN:VCALENDAR
VERSION:2.0
PRODID:-//Unité Pastorale Vallée du Geer - ECPv6.15.20//NONSGML v1.0//EN
CALSCALE:GREGORIAN
METHOD:PUBLISH
X-WR-CALNAME:Unité Pastorale Vallée du Geer
X-ORIGINAL-URL:https://www.upvalleedugeer.be
X-WR-CALDESC:Évènements pour Unité Pastorale Vallée du Geer
REFRESH-INTERVAL;VALUE=DURATION:PT1H
X-Robots-Tag:noindex
X-PUBLISHED-TTL:PT1H
BEGIN:VTIMEZONE
TZID:Europe/Paris
BEGIN:DAYLIGHT
TZOFFSETFROM:+0100
TZOFFSETTO:+0200
TZNAME:CEST
DTSTART:20220327T010000
END:DAYLIGHT
BEGIN:STANDARD
TZOFFSETFROM:+0200
TZOFFSETTO:+0100
TZNAME:CET
DTSTART:20221030T010000
END:STANDARD
BEGIN:DAYLIGHT
TZOFFSETFROM:+0100
TZOFFSETTO:+0200
TZNAME:CEST
DTSTART:20230326T010000
END:DAYLIGHT
BEGIN:STANDARD
TZOFFSETFROM:+0200
TZOFFSETTO:+0100
TZNAME:CET
DTSTART:20231029T010000
END:STANDARD
BEGIN:DAYLIGHT
TZOFFSETFROM:+0100
TZOFFSETTO:+0200
TZNAME:CEST
DTSTART:20240331T010000
END:DAYLIGHT
BEGIN:STANDARD
TZOFFSETFROM:+0200
TZOFFSETTO:+0100
TZNAME:CET
DTSTART:20241027T010000
END:STANDARD
END:VTIMEZONE
BEGIN:VEVENT
DTSTART;TZID=Europe/Paris:20230215T200000
DTEND;TZID=Europe/Paris:20230215T220000
DTSTAMP:20260425T185701
CREATED:20230211T102625Z
LAST-MODIFIED:20230211T113743Z
UID:8991-1676491200-1676498400@www.upvalleedugeer.be
SUMMARY:Réunion du CUP
DESCRIPTION:Réunion du Conseil d’Unité Pastorale (CUP)
URL:https://www.upvalleedugeer.be/event/reunion-du-cup/
LOCATION:Salle Yalla\, Rue Nouwen\, Bassenge
END:VEVENT
END:VCALENDAR